BEGIN:VCALENDAR
VERSION:2.0
PRODID:-//ANKP - ECPv6.15.20//NONSGML v1.0//EN
CALSCALE:GREGORIAN
METHOD:PUBLISH
X-ORIGINAL-URL:https://kyudo-portugal.pt
X-WR-CALDESC:Eventos para ANKP
REFRESH-INTERVAL;VALUE=DURATION:PT1H
X-Robots-Tag:noindex
X-PUBLISHED-TTL:PT1H
BEGIN:VTIMEZONE
TZID:UTC
BEGIN:STANDARD
TZOFFSETFROM:+0000
TZOFFSETTO:+0000
TZNAME:UTC
DTSTART:20230101T000000
END:STANDARD
END:VTIMEZONE
BEGIN:VEVENT
DTSTART;TZID=UTC:20241102T093000
DTEND;TZID=UTC:20241102T120000
DTSTAMP:20260425T145732
CREATED:20241024T215632Z
LAST-MODIFIED:20241027T141625Z
UID:393-1730539800-1730548800@kyudo-portugal.pt
SUMMARY:Taikai - Torneio
DESCRIPTION:Realização de Taikai (Torneio).
URL:https://kyudo-portugal.pt/event/taikai/
LOCATION:AEIST\, Pav Desp AEIST\, Lisboa\, Portugal
CATEGORIES:Taikai
END:VEVENT
END:VCALENDAR