BEGIN:VCALENDAR
VERSION:2.0
PRODID:-//ANKP - ECPv6.15.20//NONSGML v1.0//EN
CALSCALE:GREGORIAN
METHOD:PUBLISH
X-WR-CALNAME:ANKP
X-ORIGINAL-URL:https://kyudo-portugal.pt
X-WR-CALDESC:Eventos para ANKP
REFRESH-INTERVAL;VALUE=DURATION:PT1H
X-Robots-Tag:noindex
X-PUBLISHED-TTL:PT1H
BEGIN:VTIMEZONE
TZID:UTC
BEGIN:STANDARD
TZOFFSETFROM:+0000
TZOFFSETTO:+0000
TZNAME:UTC
DTSTART:20230101T000000
END:STANDARD
END:VTIMEZONE
BEGIN:VEVENT
DTSTART;VALUE=DATE:20241105
DTEND;VALUE=DATE:20241110
DTSTAMP:20260425T145609
CREATED:20241020T205744Z
LAST-MODIFIED:20241027T130739Z
UID:371-1730764800-1731196799@kyudo-portugal.pt
SUMMARY:Special International Seminar (Tokyo)
DESCRIPTION:Seminário International Especial da IKYF em Tóquio\, no Japão\, com exames. \nDesde 2017 que a IKYF organiza uma ou duas vezes por ano\, em Nagóia e em Tóquio\, seminários especiais destinados a melhorar as competências de ensino dos praticantes envolvidos na promoção e desenvolvimento do Kyudo nos países afiliados da Federação Internacional de Kyudo (excluindo o Japão). \nEstes seminários são destinados exclusivamente a praticantes com o grau de 5º Dan ou superior.  O único praticante português que desde 2018 participa nestes seminários pertence À ANKyudo-Portugal.
URL:https://kyudo-portugal.pt/event/special-international-seminar-tokyo/
LOCATION:Tokyo\, Shibuya-ku\, Tokyo\, Japan
END:VEVENT
END:VCALENDAR