BEGIN:VCALENDAR
VERSION:2.0
PRODID:-//ANKP - ECPv6.15.20//NONSGML v1.0//EN
CALSCALE:GREGORIAN
METHOD:PUBLISH
X-WR-CALNAME:ANKP
X-ORIGINAL-URL:https://kyudo-portugal.pt
X-WR-CALDESC:Eventos para ANKP
REFRESH-INTERVAL;VALUE=DURATION:PT1H
X-Robots-Tag:noindex
X-PUBLISHED-TTL:PT1H
BEGIN:VTIMEZONE
TZID:Europe/Lisbon
BEGIN:DAYLIGHT
TZOFFSETFROM:+0000
TZOFFSETTO:+0100
TZNAME:WEST
DTSTART:20240331T010000
END:DAYLIGHT
BEGIN:STANDARD
TZOFFSETFROM:+0100
TZOFFSETTO:+0000
TZNAME:WET
DTSTART:20241027T010000
END:STANDARD
BEGIN:DAYLIGHT
TZOFFSETFROM:+0000
TZOFFSETTO:+0100
TZNAME:WEST
DTSTART:20250330T010000
END:DAYLIGHT
BEGIN:STANDARD
TZOFFSETFROM:+0100
TZOFFSETTO:+0000
TZNAME:WET
DTSTART:20251026T010000
END:STANDARD
BEGIN:DAYLIGHT
TZOFFSETFROM:+0000
TZOFFSETTO:+0100
TZNAME:WEST
DTSTART:20260329T010000
END:DAYLIGHT
BEGIN:STANDARD
TZOFFSETFROM:+0100
TZOFFSETTO:+0000
TZNAME:WET
DTSTART:20261025T010000
END:STANDARD
END:VTIMEZONE
BEGIN:VTIMEZONE
TZID:UTC
BEGIN:STANDARD
TZOFFSETFROM:+0000
TZOFFSETTO:+0000
TZNAME:UTC
DTSTART:20240101T000000
END:STANDARD
END:VTIMEZONE
BEGIN:VEVENT
DTSTART;VALUE=DATE:20250910
DTEND;VALUE=DATE:20250911
DTSTAMP:20260424T225031
CREATED:20241101T214754Z
LAST-MODIFIED:20260122T203010Z
UID:457-1757462400-1757548799@kyudo-portugal.pt
SUMMARY:Dia do Kyudo (JP)
DESCRIPTION:Hoje celebra-se o dia do Kyudo no Japão!
URL:https://kyudo-portugal.pt/event/dia-do-kyudo-jp/
CATEGORIES:Outro
END:VEVENT
BEGIN:VEVENT
DTSTART;TZID=UTC:20250920T093000
DTEND;TZID=UTC:20250920T113000
DTSTAMP:20260424T225031
CREATED:20250914T200719Z
LAST-MODIFIED:20250914T200719Z
UID:689-1758360600-1758367800@kyudo-portugal.pt
SUMMARY:Re-inicio dos treinos 2025-2026 / Practice re-start 2025-2026
DESCRIPTION:Inicio da época de treino 2025-2026 após interrupção de Verão.\nStart of the 2025-2026 period of practice\, after the Summer break. \nPavilhão da Associação de Estudantes do IST\, Lisboa.
URL:https://kyudo-portugal.pt/event/re-inicio-dos-treinos-2025-2026-practice-re-start-2025-2026/
LOCATION:AEIST\, Pav Desp AEIST\, Lisboa\, Portugal
END:VEVENT
END:VCALENDAR